BEGIN:VCALENDAR
VERSION:2.0
METHOD:PUBLISH
BEGIN:VEVENT
DTSTART:20221230T140000Z
DTEND:20221231T190000Z
LOCATION:Tiverton, RI 02878
TRANSP: OPAQUE
SEQUENCE:0
UID:
DTSTAMP:20260420T012751Z
SUMMARY:Year End Tiverton Estate Sale Rain or Shine
DESCRIPTION:Year End Tiverton Estate Sale Rain or Shine Hidden Treasures Estate Sales & Cleanouts 
UID:1776670071
STREET-ADDRESS:See website
POSTAL-CODE:02878
LOCALITY:Tiverton
REGION:ABBREV=RI
COUNTRY:ABBREV=US;ABBREV=USA:United States
URL;TYPE=Event Listing:https://estatesales.org/estate-sales/ri/tiverton/02878/year-end-tiverton-estate-sale-2132893
PRIORITY:1
CLASS:PUBLIC
SEQUENCE:0
STATUS:CONFIRMED
TRANSP:OPAQUE
END:VEVENT
END:VCALENDAR
