BEGIN:VCALENDAR
VERSION:2.0
METHOD:PUBLISH
BEGIN:VEVENT
DTSTART:20221230T170000Z
DTEND:20221231T210000Z
LOCATION:Martinez, CA 94553
TRANSP: OPAQUE
SEQUENCE:0
UID:
DTSTAMP:20260423T062930Z
SUMMARY:Let's end 2022 with a MASSIVE Collectibles SALE! Smalls and Paper Ephemera estate sale in Martinez!
DESCRIPTION:Let's end 2022 with a MASSIVE Collectibles SALE! Smalls and Paper Ephemera estate sale in Martinez! J and C Estate Sales 
UID:1776947370
STREET-ADDRESS:See website
POSTAL-CODE:94553
LOCALITY:Martinez
REGION:ABBREV=CA
COUNTRY:ABBREV=US;ABBREV=USA:United States
URL;TYPE=Event Listing:https://estatesales.org/estate-sales/ca/martinez/94553/lets-end-2022-with-a-2133161
PRIORITY:1
CLASS:PUBLIC
SEQUENCE:0
STATUS:CONFIRMED
TRANSP:OPAQUE
END:VEVENT
END:VCALENDAR
