BEGIN:VCALENDAR
VERSION:2.0
METHOD:PUBLISH
BEGIN:VEVENT
DTSTART:20171230T140000Z
DTEND:20180101T220000Z
LOCATION:Valley Stream, NY 11581
TRANSP: OPAQUE
SEQUENCE:0
UID:
DTSTAMP:20260424T115753Z
SUMMARY:Huge 3-Day New Year's Super Sale - Sat, 9am -7pm,  Sun. 11am-6pm & Mon. 9am-5pm.
DESCRIPTION:Huge 3-Day New Year's Super Sale - Sat, 9am -7pm,  Sun. 11am-6pm & Mon. 9am-5pm. Antique &amp; Thrift Shop Super Store Flea Market 
UID:1777053473
STREET-ADDRESS:See website
POSTAL-CODE:11581
LOCALITY:Valley Stream
REGION:ABBREV=NY
COUNTRY:ABBREV=US;ABBREV=USA:United States
URL;TYPE=Event Listing:https://estatesales.org/estate-sales/ny/valley-stream/11581/huge-3day-new-years-super-1466903
PRIORITY:1
CLASS:PUBLIC
SEQUENCE:0
STATUS:CONFIRMED
TRANSP:OPAQUE
END:VEVENT
END:VCALENDAR
