BEGIN:VCALENDAR
VERSION:2.0
METHOD:PUBLISH
BEGIN:VEVENT
DTSTART:20231229T160000Z
DTEND:20231231T220000Z
LOCATION:Beverly, MA 01915
TRANSP: OPAQUE
SEQUENCE:0
UID:
DTSTAMP:20260419T104713Z
SUMMARY:Three-Day Auction Extravaganza
DESCRIPTION:Three-Day Auction Extravaganza KaminskiAuctions 
UID:1776617233
STREET-ADDRESS:See website
POSTAL-CODE:01915
LOCALITY:Beverly
REGION:ABBREV=MA
COUNTRY:ABBREV=US;ABBREV=USA:United States
URL;TYPE=Event Listing:https://estatesales.org/estate-sales/ma/beverly/01915/threeday-auction-extravaganza-2267055
PRIORITY:1
CLASS:PUBLIC
SEQUENCE:0
STATUS:CONFIRMED
TRANSP:OPAQUE
END:VEVENT
END:VCALENDAR
