BEGIN:VCALENDAR
VERSION:2.0
METHOD:PUBLISH
BEGIN:VEVENT
DTSTART:20241228T170000Z
DTEND:20241229T200000Z
LOCATION:Modesto, CA 95350
TRANSP: OPAQUE
SEQUENCE:0
UID:
DTSTAMP:20260425T045038Z
SUMMARY:Estate of Affairs is hosting another Fun and Exciting Estate Sale in Modesto, CA
DESCRIPTION:Estate of Affairs is hosting another Fun and Exciting Estate Sale in Modesto, CA Estate of Affairs 
UID:1777114238
STREET-ADDRESS:See website
POSTAL-CODE:95350
LOCALITY:Modesto
REGION:ABBREV=CA
COUNTRY:ABBREV=US;ABBREV=USA:United States
URL;TYPE=Event Listing:https://estatesales.org/estate-sales/ca/modesto/95350/estate-of-affairs-is-hosting-2353536
PRIORITY:1
CLASS:PUBLIC
SEQUENCE:0
STATUS:CONFIRMED
TRANSP:OPAQUE
END:VEVENT
END:VCALENDAR
