BEGIN:VCALENDAR
VERSION:2.0
METHOD:PUBLISH
BEGIN:VEVENT
DTSTART:20151228T160000Z
DTEND:20160101T030000Z
LOCATION:By appointment only.
TRANSP: OPAQUE
SEQUENCE:0
UID:
DTSTAMP:20260424T133519Z
SUMMARY:Furniture and All Household Items thru December 28th
DESCRIPTION:Furniture and All Household Items thru December 28th Annie M. 
UID:1777059319
STREET-ADDRESS:See website
POSTAL-CODE:98030
LOCALITY:Kent
REGION:ABBREV=WA
COUNTRY:ABBREV=US;ABBREV=USA:United States
URL;TYPE=Event Listing:https://estatesales.org/estate-sales/wa/kent/98030/furniture-and-all-household-items-747527
PRIORITY:1
CLASS:PUBLIC
SEQUENCE:0
STATUS:CONFIRMED
TRANSP:OPAQUE
END:VEVENT
END:VCALENDAR
