BEGIN:VCALENDAR
VERSION:2.0
METHOD:PUBLISH
BEGIN:VEVENT
DTSTART:20231227T170000Z
DTEND:20231230T200000Z
LOCATION:Bakersfield, CA 93304
TRANSP: OPAQUE
SEQUENCE:0
UID:
DTSTAMP:20260421T115631Z
SUMMARY:Collectibles for Sale! Mickey, Betty Boop & More!
DESCRIPTION:Collectibles for Sale! Mickey, Betty Boop & More! Senior Move Manager & More! 
UID:1776794191
STREET-ADDRESS:See website
POSTAL-CODE:93304
LOCALITY:Bakersfield
REGION:ABBREV=CA
COUNTRY:ABBREV=US;ABBREV=USA:United States
URL;TYPE=Event Listing:https://estatesales.org/estate-sales/ca/bakersfield/93304/collectibles-for-sale-mickey-betty-2268365
PRIORITY:1
CLASS:PUBLIC
SEQUENCE:0
STATUS:CONFIRMED
TRANSP:OPAQUE
END:VEVENT
END:VCALENDAR
