BEGIN:VCALENDAR
VERSION:2.0
METHOD:PUBLISH
BEGIN:VEVENT
DTSTART:20161227T150000Z
DTEND:20161229T210000Z
LOCATION:Utica, MI 48316
TRANSP: OPAQUE
SEQUENCE:0
UID:
DTSTAMP:20260421T055333Z
SUMMARY:50%OFF!*   LUXURY CONDO Sale!  After Christmas Packed Luxury Home Estate Sale!  
DESCRIPTION:50%OFF!*   LUXURY CONDO Sale!  After Christmas Packed Luxury Home Estate Sale!   JJ's Estate Services - Found in Michigan! 
UID:1776772413
STREET-ADDRESS:See website
POSTAL-CODE:48316
LOCALITY:Utica
REGION:ABBREV=MI
COUNTRY:ABBREV=US;ABBREV=USA:United States
URL;TYPE=Event Listing:https://estatesales.org/estate-sales/mi/utica/48316/50off-luxury-condo-sale-after-1051849
PRIORITY:1
CLASS:PUBLIC
SEQUENCE:0
STATUS:CONFIRMED
TRANSP:OPAQUE
END:VEVENT
END:VCALENDAR
