BEGIN:VCALENDAR
VERSION:2.0
METHOD:PUBLISH
BEGIN:VEVENT
DTSTART:20131227T140000Z
DTEND:20131228T210000Z
LOCATION:Clearwater, FL 33763
TRANSP: OPAQUE
SEQUENCE:0
UID:
DTSTAMP:20260423T131102Z
SUMMARY:Upscale On Top of the World Estate Sale
DESCRIPTION:Upscale On Top of the World Estate Sale Timeless Heritage Estate Jewelry and Sales 
UID:1776971462
STREET-ADDRESS:See website
POSTAL-CODE:33763
LOCALITY:Clearwater
REGION:ABBREV=FL
COUNTRY:ABBREV=US;ABBREV=USA:United States
URL;TYPE=Event Listing:https://estatesales.org/estate-sales/fl/clearwater/33763/upscale-on-top-of-the-347655
PRIORITY:1
CLASS:PUBLIC
SEQUENCE:0
STATUS:CONFIRMED
TRANSP:OPAQUE
END:VEVENT
END:VCALENDAR
