BEGIN:VCALENDAR
VERSION:2.0
METHOD:PUBLISH
BEGIN:VEVENT
DTSTART:20181222T150000Z
DTEND:20181222T220000Z
LOCATION:Shreveport, LA 71119
TRANSP: OPAQUE
SEQUENCE:0
UID:
DTSTAMP:20260421T032551Z
SUMMARY:VINTAGE CHRISTMAS BONANZA AT PINES ROAD PART 1! 
DESCRIPTION:VINTAGE CHRISTMAS BONANZA AT PINES ROAD PART 1!  Antique Hustle Estate Sales 
UID:1776763551
STREET-ADDRESS:See website
POSTAL-CODE:71119
LOCALITY:Shreveport
REGION:ABBREV=LA
COUNTRY:ABBREV=US;ABBREV=USA:United States
URL;TYPE=Event Listing:https://estatesales.org/estate-sales/la/shreveport/71119/vintage-christmas-bonanza-at-pines-1606619
PRIORITY:1
CLASS:PUBLIC
SEQUENCE:0
STATUS:CONFIRMED
TRANSP:OPAQUE
END:VEVENT
END:VCALENDAR
