BEGIN:VCALENDAR
VERSION:2.0
METHOD:PUBLISH
BEGIN:VEVENT
DTSTART:20251221T180000Z
DTEND:20251222T010000Z
LOCATION:Sylmar, CA 91342
TRANSP: OPAQUE
SEQUENCE:0
UID:
DTSTAMP:20260422T103404Z
SUMMARY:Ooo!! 60's-Y2K!! Memorabilia, Fashion, DOLLS, & Decor!!
DESCRIPTION:Ooo!! 60's-Y2K!! Memorabilia, Fashion, DOLLS, & Decor!!
UID:1776875644
STREET-ADDRESS:See website
POSTAL-CODE:91342
LOCALITY:Sylmar
REGION:ABBREV=CA
COUNTRY:ABBREV=US;ABBREV=USA:United States
URL;TYPE=Event Listing:https://estatesales.org/estate-sales/ca/sylmar/91342/ooo-60sy2k-memorabilia-fashion-dolls-2418415
PRIORITY:1
CLASS:PUBLIC
SEQUENCE:0
STATUS:CONFIRMED
TRANSP:OPAQUE
END:VEVENT
END:VCALENDAR
