BEGIN:VCALENDAR
VERSION:2.0
METHOD:PUBLISH
BEGIN:VEVENT
DTSTART:20231221T160000Z
DTEND:20231223T200000Z
LOCATION:Springfield, TN 37172
TRANSP: OPAQUE
SEQUENCE:0
UID:
DTSTAMP:20260419T230641Z
SUMMARY:Santa’s workshop
DESCRIPTION:Santa’s workshop Country Roads Estate Sales 
UID:1776661601
STREET-ADDRESS:See website
POSTAL-CODE:37172
LOCALITY:Springfield
REGION:ABBREV=TN
COUNTRY:ABBREV=US;ABBREV=USA:United States
URL;TYPE=Event Listing:https://estatesales.org/estate-sales/tn/springfield-/37172/santas-workshop-2267645
PRIORITY:1
CLASS:PUBLIC
SEQUENCE:0
STATUS:CONFIRMED
TRANSP:OPAQUE
END:VEVENT
END:VCALENDAR
