BEGIN:VCALENDAR
VERSION:2.0
METHOD:PUBLISH
BEGIN:VEVENT
DTSTART:20201221T180000Z
DTEND:20201224T220000Z
LOCATION:Sacramento, CA 95841
TRANSP: OPAQUE
SEQUENCE:0
UID:
DTSTAMP:20260421T234422Z
SUMMARY:Appointment Only - Hello, Dolly! Dolls, Hollywood Regency, and Vintage Clothes
DESCRIPTION:Appointment Only - Hello, Dolly! Dolls, Hollywood Regency, and Vintage Clothes Levy Estate Services 
UID:1776836662
STREET-ADDRESS:See website
POSTAL-CODE:95841
LOCALITY:Sacramento
REGION:ABBREV=CA
COUNTRY:ABBREV=US;ABBREV=USA:United States
URL;TYPE=Event Listing:https://estatesales.org/estate-sales/ca/sacramento/95841/appointment-only-hello-dolly-dolls-1857989
PRIORITY:1
CLASS:PUBLIC
SEQUENCE:0
STATUS:CONFIRMED
TRANSP:OPAQUE
END:VEVENT
END:VCALENDAR
