BEGIN:VCALENDAR
VERSION:2.0
METHOD:PUBLISH
BEGIN:VEVENT
DTSTART:20251220T160000Z
DTEND:20251221T220000Z
LOCATION:Thousand Oaks, CA 91360
TRANSP: OPAQUE
SEQUENCE:0
UID:
DTSTAMP:20260421T011009Z
SUMMARY:Beautiful Thousand Oaks Estate Sale 50% today!
DESCRIPTION:Beautiful Thousand Oaks Estate Sale 50% today! Mickie's Estate Sales 
UID:1776755409
STREET-ADDRESS:See website
POSTAL-CODE:91360
LOCALITY:Thousand Oaks
REGION:ABBREV=CA
COUNTRY:ABBREV=US;ABBREV=USA:United States
URL;TYPE=Event Listing:https://estatesales.org/estate-sales/ca/thousand-oaks/91360/beautiful-thousand-oaks-estate-sale-2417953
PRIORITY:1
CLASS:PUBLIC
SEQUENCE:0
STATUS:CONFIRMED
TRANSP:OPAQUE
END:VEVENT
END:VCALENDAR
