BEGIN:VCALENDAR
VERSION:2.0
METHOD:PUBLISH
BEGIN:VEVENT
DTSTART:20241220T160000Z
DTEND:20241222T210000Z
LOCATION:Houston, TX 77062
TRANSP: OPAQUE
SEQUENCE:0
UID:
DTSTAMP:20260419T061831Z
SUMMARY:50% Off Clear Lake Estate Sale
DESCRIPTION:50% Off Clear Lake Estate Sale Patrice's Estate Sales 
UID:1776601111
STREET-ADDRESS:See website
POSTAL-CODE:77062
LOCALITY:Houston
REGION:ABBREV=TX
COUNTRY:ABBREV=US;ABBREV=USA:United States
URL;TYPE=Event Listing:https://estatesales.org/estate-sales/tx/houston/77062/25-off-clear-lake-estate-2354078
PRIORITY:1
CLASS:PUBLIC
SEQUENCE:0
STATUS:CONFIRMED
TRANSP:OPAQUE
END:VEVENT
END:VCALENDAR
