BEGIN:VCALENDAR
VERSION:2.0
METHOD:PUBLISH
BEGIN:VEVENT
DTSTART:20251219T163000Z
DTEND:20251220T210000Z
LOCATION:Apache Junction, AZ 85119
TRANSP: OPAQUE
SEQUENCE:0
UID:
DTSTAMP:20260421T230012Z
SUMMARY:Sales Dates Changed! Former Storage Wars Buyers Selling Everything!
DESCRIPTION:Sales Dates Changed! Former Storage Wars Buyers Selling Everything! Boyds AZ 
UID:1776834012
STREET-ADDRESS:See website
POSTAL-CODE:85119
LOCALITY:Apache Junction
REGION:ABBREV=AZ
COUNTRY:ABBREV=US;ABBREV=USA:United States
URL;TYPE=Event Listing:https://estatesales.org/estate-sales/az/apache-junction/85119/sales-dates-changed-former-storage-2406608
PRIORITY:1
CLASS:PUBLIC
SEQUENCE:0
STATUS:CONFIRMED
TRANSP:OPAQUE
END:VEVENT
END:VCALENDAR
