BEGIN:VCALENDAR
VERSION:2.0
METHOD:PUBLISH
BEGIN:VEVENT
DTSTART:20251219T160000Z
DTEND:20251222T000000Z
LOCATION:Kingsburg, CA 93631
TRANSP: OPAQUE
SEQUENCE:0
UID:
DTSTAMP:20260422T045945Z
SUMMARY:Kingsburg Retro Revival Estate Liquidation
DESCRIPTION:Kingsburg Retro Revival Estate Liquidation Golden Estate Sales 
UID:1776855585
STREET-ADDRESS:See website
POSTAL-CODE:93631
LOCALITY:Kingsburg
REGION:ABBREV=CA
COUNTRY:ABBREV=US;ABBREV=USA:United States
URL;TYPE=Event Listing:https://estatesales.org/estate-sales/ca/kingsburg/93631/kingsburg-retro-revival-estate-liquidation-2417961
PRIORITY:1
CLASS:PUBLIC
SEQUENCE:0
STATUS:CONFIRMED
TRANSP:OPAQUE
END:VEVENT
END:VCALENDAR
