BEGIN:VCALENDAR
VERSION:2.0
METHOD:PUBLISH
BEGIN:VEVENT
DTSTART:20251219T130000Z
DTEND:20251220T190000Z
LOCATION:Pompano Beach, FL 33071
TRANSP: OPAQUE
SEQUENCE:0
UID:
DTSTAMP:20260422T204009Z
SUMMARY:TIME IS TICKING IN CORAL SPRINGS
DESCRIPTION:TIME IS TICKING IN CORAL SPRINGS Estate Sales by Ellyn 
UID:1776912009
STREET-ADDRESS:See website
POSTAL-CODE:33071
LOCALITY:Pompano Beach
REGION:ABBREV=FL
COUNTRY:ABBREV=US;ABBREV=USA:United States
URL;TYPE=Event Listing:https://estatesales.org/estate-sales/fl/coral-springs/33071/time-is-ticking-in-coral-2418195
PRIORITY:1
CLASS:PUBLIC
SEQUENCE:0
STATUS:CONFIRMED
TRANSP:OPAQUE
END:VEVENT
END:VCALENDAR
