BEGIN:VCALENDAR
VERSION:2.0
METHOD:PUBLISH
BEGIN:VEVENT
DTSTART:20241219T160000Z
DTEND:20241221T210000Z
LOCATION:Tampa, FL 33637
TRANSP: OPAQUE
SEQUENCE:0
UID:
DTSTAMP:20260421T145157Z
SUMMARY:3 Day Thursday thru Saturday Temple Terrace Estate Sale
DESCRIPTION:3 Day Thursday thru Saturday Temple Terrace Estate Sale Done Deal Estate Sales and Appraisals, LLC 
UID:1776804717
STREET-ADDRESS:See website
POSTAL-CODE:33637
LOCALITY:Tampa
REGION:ABBREV=FL
COUNTRY:ABBREV=US;ABBREV=USA:United States
URL;TYPE=Event Listing:https://estatesales.org/estate-sales/fl/tampa/33637/3-day-thursday-thru-saturday-2354514
PRIORITY:1
CLASS:PUBLIC
SEQUENCE:0
STATUS:CONFIRMED
TRANSP:OPAQUE
END:VEVENT
END:VCALENDAR
