BEGIN:VCALENDAR
VERSION:2.0
METHOD:PUBLISH
BEGIN:VEVENT
DTSTART:20251218T150000Z
DTEND:20251220T190000Z
LOCATION:Rockledge, FL 32955
TRANSP: OPAQUE
SEQUENCE:0
UID:
DTSTAMP:20260419T122032Z
SUMMARY:50% Saturday-Estate Sale in Rockledge-Estate Sale Stars
DESCRIPTION:50% Saturday-Estate Sale in Rockledge-Estate Sale Stars Estate Sale Stars 
UID:1776622832
STREET-ADDRESS:See website
POSTAL-CODE:32955
LOCALITY:Rockledge
REGION:ABBREV=FL
COUNTRY:ABBREV=US;ABBREV=USA:United States
URL;TYPE=Event Listing:https://estatesales.org/estate-sales/fl/rockledge/32955/50-saturdayestate-sale-in-rockledgeestate-2414494
PRIORITY:1
CLASS:PUBLIC
SEQUENCE:0
STATUS:CONFIRMED
TRANSP:OPAQUE
END:VEVENT
END:VCALENDAR
