BEGIN:VCALENDAR
VERSION:2.0
METHOD:PUBLISH
BEGIN:VEVENT
DTSTART:20251218T170000Z
DTEND:20251221T220000Z
LOCATION:By appointment only.
TRANSP: OPAQUE
SEQUENCE:0
UID:
DTSTAMP:20260419T054018Z
SUMMARY:Estate Sale In Discovery Bay by Appointment Only. Horizons LLC
DESCRIPTION:Estate Sale In Discovery Bay by Appointment Only. Horizons LLC Horizons Estate Sales LLC 
UID:1776598818
STREET-ADDRESS:See website
POSTAL-CODE:94505
LOCALITY:Byron
REGION:ABBREV=CA
COUNTRY:ABBREV=US;ABBREV=USA:United States
URL;TYPE=Event Listing:https://estatesales.org/estate-sales/ca/discovery-bay/94505/estate-sale-in-discovery-bay-2418037
PRIORITY:1
CLASS:PUBLIC
SEQUENCE:0
STATUS:CONFIRMED
TRANSP:OPAQUE
END:VEVENT
END:VCALENDAR
