BEGIN:VCALENDAR
VERSION:2.0
METHOD:PUBLISH
BEGIN:VEVENT
DTSTART:20251218T140000Z
DTEND:20251220T190000Z
LOCATION:Leonardtown, MD 20650
TRANSP: OPAQUE
SEQUENCE:0
UID:
DTSTAMP:20260421T141534Z
SUMMARY:3 Story, 2 Car Garage & Shed Packed FULL Military, Fishing, Sterling, Knives, Tools, Pilot, Coins
DESCRIPTION:3 Story, 2 Car Garage & Shed Packed FULL Military, Fishing, Sterling, Knives, Tools, Pilot, Coins Estate Escape 
UID:1776802534
STREET-ADDRESS:See website
POSTAL-CODE:20650
LOCALITY:Leonardtown
REGION:ABBREV=MD
COUNTRY:ABBREV=US;ABBREV=USA:United States
URL;TYPE=Event Listing:https://estatesales.org/estate-sales/md/leonardtown/20650/3-story-2-car-garage-2417681
PRIORITY:1
CLASS:PUBLIC
SEQUENCE:0
STATUS:CONFIRMED
TRANSP:OPAQUE
END:VEVENT
END:VCALENDAR
