BEGIN:VCALENDAR
VERSION:2.0
METHOD:PUBLISH
BEGIN:VEVENT
DTSTART:20151218T170000Z
DTEND:20151220T230000Z
LOCATION:Sacramento, CA 95820
TRANSP: OPAQUE
SEQUENCE:0
UID:
DTSTAMP:20260421T115605Z
SUMMARY:New Life Estate Sale Presents The Collectibles & Beyond Sale
DESCRIPTION:New Life Estate Sale Presents The Collectibles & Beyond Sale Calder Estate Sales and Liquidators 
UID:1776794165
STREET-ADDRESS:See website
POSTAL-CODE:95820
LOCALITY:Sacramento
REGION:ABBREV=CA
COUNTRY:ABBREV=US;ABBREV=USA:United States
URL;TYPE=Event Listing:https://estatesales.org/estate-sales/ca/sacramento/95820/new-life-estate-sale-presents-743371
PRIORITY:1
CLASS:PUBLIC
SEQUENCE:0
STATUS:CONFIRMED
TRANSP:OPAQUE
END:VEVENT
END:VCALENDAR
