BEGIN:VCALENDAR
VERSION:2.0
METHOD:PUBLISH
BEGIN:VEVENT
DTSTART:20221217T170000Z
DTEND:20221218T220000Z
LOCATION:Grand Junction, CO 81504
TRANSP: OPAQUE
SEQUENCE:0
UID:
DTSTAMP:20260419T152905Z
SUMMARY:Annual Christmas Sale & a Lot More. 
DESCRIPTION:Annual Christmas Sale & a Lot More.  Estate Treasures by Grand Junction Estate Sales 
UID:1776634145
STREET-ADDRESS:See website
POSTAL-CODE:81504
LOCALITY:Grand Junction
REGION:ABBREV=CO
COUNTRY:ABBREV=US;ABBREV=USA:United States
URL;TYPE=Event Listing:https://estatesales.org/estate-sales/co/grand-junction/81504/annual-christmas-sale-a-lot-2132163
PRIORITY:1
CLASS:PUBLIC
SEQUENCE:0
STATUS:CONFIRMED
TRANSP:OPAQUE
END:VEVENT
END:VCALENDAR
