BEGIN:VCALENDAR
VERSION:2.0
METHOD:PUBLISH
BEGIN:VEVENT
DTSTART:20211217T170000Z
DTEND:20211219T220000Z
LOCATION:Upland, CA 91784
TRANSP: OPAQUE
SEQUENCE:0
UID:
DTSTAMP:20260425T050248Z
SUMMARY:Last sale of the year in beautiful city of Upland
DESCRIPTION:Last sale of the year in beautiful city of Upland Next Step Estate Sales 
UID:1777114968
STREET-ADDRESS:See website
POSTAL-CODE:91784
LOCALITY:Upland
REGION:ABBREV=CA
COUNTRY:ABBREV=US;ABBREV=USA:United States
URL;TYPE=Event Listing:https://estatesales.org/estate-sales/ca/upland/91784/last-sale-of-the-year-1993467
PRIORITY:1
CLASS:PUBLIC
SEQUENCE:0
STATUS:CONFIRMED
TRANSP:OPAQUE
END:VEVENT
END:VCALENDAR
