BEGIN:VCALENDAR
VERSION:2.0
METHOD:PUBLISH
BEGIN:VEVENT
DTSTART:20161217T140000Z
DTEND:20161219T220000Z
LOCATION:By appointment only.
TRANSP: OPAQUE
SEQUENCE:0
UID:
DTSTAMP:20260421T055310Z
SUMMARY:BUY IT NOW SALE! - Contact us about  pre-Holiday appointments!Fabulous Shelby Luxury Home Estate Sale
DESCRIPTION:BUY IT NOW SALE! - Contact us about  pre-Holiday appointments!Fabulous Shelby Luxury Home Estate Sale JJ's Estate Services - Found in Michigan! 
UID:1776772390
STREET-ADDRESS:See website
POSTAL-CODE:48316
LOCALITY:Shelby
REGION:ABBREV=MI
COUNTRY:ABBREV=US;ABBREV=USA:United States
URL;TYPE=Event Listing:https://estatesales.org/estate-sales/mi/shelby/48316/buy-it-now-sale-contact-1047831
PRIORITY:1
CLASS:PUBLIC
SEQUENCE:0
STATUS:CONFIRMED
TRANSP:OPAQUE
END:VEVENT
END:VCALENDAR
