BEGIN:VCALENDAR
VERSION:2.0
METHOD:PUBLISH
BEGIN:VEVENT
DTSTART:20231216T160000Z
DTEND:20231216T210000Z
LOCATION:Menasha, WI 54952
TRANSP: OPAQUE
SEQUENCE:0
UID:
DTSTAMP:20260424T073830Z
SUMMARY:Estate Warehouse Sale at the Gem! All holiday decore is 50% off, all glassware is 25% off
DESCRIPTION:Estate Warehouse Sale at the Gem! All holiday decore is 50% off, all glassware is 25% off Greater Fox Valley Estate Sales / Chip's Treasures LLC 
UID:1777037910
STREET-ADDRESS:See website
POSTAL-CODE:54952
LOCALITY:Menasha
REGION:ABBREV=WI
COUNTRY:ABBREV=US;ABBREV=USA:United States
URL;TYPE=Event Listing:https://estatesales.org/estate-sales/wi/menasha/54952/estate-warehouse-sale-at-the-2266435
PRIORITY:1
CLASS:PUBLIC
SEQUENCE:0
STATUS:CONFIRMED
TRANSP:OPAQUE
END:VEVENT
END:VCALENDAR
