BEGIN:VCALENDAR
VERSION:2.0
METHOD:PUBLISH
BEGIN:VEVENT
DTSTART:20231216T130000Z
DTEND:20231217T180000Z
LOCATION:Beverly, NJ 08010
TRANSP: OPAQUE
SEQUENCE:0
UID:
DTSTAMP:20260419T170103Z
SUMMARY:75% OFF Edgewater Park Shop Till You Drop Estate Sale
DESCRIPTION:75% OFF Edgewater Park Shop Till You Drop Estate Sale Saving Grace Estate Sales 
UID:1776639663
STREET-ADDRESS:See website
POSTAL-CODE:08010
LOCALITY:Beverly
REGION:ABBREV=NJ
COUNTRY:ABBREV=US;ABBREV=USA:United States
URL;TYPE=Event Listing:https://estatesales.org/estate-sales/nj/beverly/08010/75-off-edgewater-park-shop-2265087
PRIORITY:1
CLASS:PUBLIC
SEQUENCE:0
STATUS:CONFIRMED
TRANSP:OPAQUE
END:VEVENT
END:VCALENDAR
