BEGIN:VCALENDAR
VERSION:2.0
METHOD:PUBLISH
BEGIN:VEVENT
DTSTART:20221216T170000Z
DTEND:20221217T233000Z
LOCATION:Bakersfield, CA 93306
TRANSP: OPAQUE
SEQUENCE:0
UID:
DTSTAMP:20260422T062332Z
SUMMARY:Solera at kern canyon/ Entrance off Miramonte Dr
DESCRIPTION:Solera at kern canyon/ Entrance off Miramonte Dr All About You Liquidation 
UID:1776860612
STREET-ADDRESS:See website
POSTAL-CODE:93306
LOCALITY:Bakersfield
REGION:ABBREV=CA
COUNTRY:ABBREV=US;ABBREV=USA:United States
URL;TYPE=Event Listing:https://estatesales.org/estate-sales/ca/bakersfield/93306/solera-at-kern-canyon-entrance-2131519
PRIORITY:1
CLASS:PUBLIC
SEQUENCE:0
STATUS:CONFIRMED
TRANSP:OPAQUE
END:VEVENT
END:VCALENDAR
