BEGIN:VCALENDAR
VERSION:2.0
METHOD:PUBLISH
BEGIN:VEVENT
DTSTART:20181216T150000Z
DTEND:20181216T210000Z
LOCATION:Ridgefield, NJ 07657
TRANSP: OPAQUE
SEQUENCE:0
UID:
DTSTAMP:20260421T111411Z
SUMMARY:Mid century in Ridgefield one day!!
DESCRIPTION:Mid century in Ridgefield one day!! Treasures of Yesterday Estate Sales 
UID:1776791651
STREET-ADDRESS:See website
POSTAL-CODE:07657
LOCALITY:Ridgefield
REGION:ABBREV=NJ
COUNTRY:ABBREV=US;ABBREV=USA:United States
URL;TYPE=Event Listing:https://estatesales.org/estate-sales/nj/ridgefield/07657/mid-century-in-ridgefield-one-1604973
PRIORITY:1
CLASS:PUBLIC
SEQUENCE:0
STATUS:CONFIRMED
TRANSP:OPAQUE
END:VEVENT
END:VCALENDAR
