BEGIN:VCALENDAR
VERSION:2.0
METHOD:PUBLISH
BEGIN:VEVENT
DTSTART:20171216T150000Z
DTEND:20171217T220000Z
LOCATION:Saint Clair Shores, MI 48080
TRANSP: OPAQUE
SEQUENCE:0
UID:
DTSTAMP:20260421T140253Z
SUMMARY:Everything Must Go~Nostalgia and Stuff You Need in the Shores
DESCRIPTION:Everything Must Go~Nostalgia and Stuff You Need in the Shores Worldwide Estate Sales 
UID:1776801773
STREET-ADDRESS:See website
POSTAL-CODE:48080
LOCALITY:Saint Clair Shores
REGION:ABBREV=MI
COUNTRY:ABBREV=US;ABBREV=USA:United States
URL;TYPE=Event Listing:https://estatesales.org/estate-sales/mi/saint-clair-shores/48080/everything-must-gonostalgia-and-stuff-1463517
PRIORITY:1
CLASS:PUBLIC
SEQUENCE:0
STATUS:CONFIRMED
TRANSP:OPAQUE
END:VEVENT
END:VCALENDAR
