BEGIN:VCALENDAR
VERSION:2.0
METHOD:PUBLISH
BEGIN:VEVENT
DTSTART:20151216T150000Z
DTEND:20151219T210000Z
LOCATION:Park Forest, IL 60466
TRANSP: OPAQUE
SEQUENCE:0
UID:
DTSTAMP:20260420T161905Z
SUMMARY:SUBTLE TREASURES *TAKES 2 MONTHS DIGGING HOARDERS HOME!!!
DESCRIPTION:SUBTLE TREASURES *TAKES 2 MONTHS DIGGING HOARDERS HOME!!! Subtle Treasures 
UID:1776723545
STREET-ADDRESS:See website
POSTAL-CODE:60466
LOCALITY:Park Forest
REGION:ABBREV=IL
COUNTRY:ABBREV=US;ABBREV=USA:United States
URL;TYPE=Event Listing:https://estatesales.org/estate-sales/il/park-forest/60466/subtle-treasures-takes-2-months-744303
PRIORITY:1
CLASS:PUBLIC
SEQUENCE:0
STATUS:CONFIRMED
TRANSP:OPAQUE
END:VEVENT
END:VCALENDAR
