BEGIN:VCALENDAR
VERSION:2.0
METHOD:PUBLISH
BEGIN:VEVENT
DTSTART:20231215T140000Z
DTEND:20231217T190000Z
LOCATION:Lake Mary, FL 32746
TRANSP: OPAQUE
SEQUENCE:0
UID:
DTSTAMP:20260423T132549Z
SUMMARY:EMERALD will be in Heathrow
DESCRIPTION:EMERALD will be in Heathrow Estate Sales by Emerald 
UID:1776972349
STREET-ADDRESS:See website
POSTAL-CODE:32746
LOCALITY:Lake Mary
REGION:ABBREV=FL
COUNTRY:ABBREV=US;ABBREV=USA:United States
URL;TYPE=Event Listing:https://estatesales.org/estate-sales/fl/lake-mary/32746/emerald-will-be-in-heathrow-2259907
PRIORITY:1
CLASS:PUBLIC
SEQUENCE:0
STATUS:CONFIRMED
TRANSP:OPAQUE
END:VEVENT
END:VCALENDAR
