BEGIN:VCALENDAR
VERSION:2.0
METHOD:PUBLISH
BEGIN:VEVENT
DTSTART:20231215T170000Z
DTEND:20231216T220000Z
LOCATION:Cypress, CA 90630
TRANSP: OPAQUE
SEQUENCE:0
UID:
DTSTAMP:20260420T172946Z
SUMMARY:TOOLS (Many NEW), Like NEW Furniture Workout Gear, & MORE!!
DESCRIPTION:TOOLS (Many NEW), Like NEW Furniture Workout Gear, & MORE!! Pointe Estate Specialists 
UID:1776727786
STREET-ADDRESS:See website
POSTAL-CODE:90630
LOCALITY:Cypress
REGION:ABBREV=CA
COUNTRY:ABBREV=US;ABBREV=USA:United States
URL;TYPE=Event Listing:https://estatesales.org/estate-sales/ca/cypress/90630/tools-many-new-like-new-2265403
PRIORITY:1
CLASS:PUBLIC
SEQUENCE:0
STATUS:CONFIRMED
TRANSP:OPAQUE
END:VEVENT
END:VCALENDAR
