BEGIN:VCALENDAR
VERSION:2.0
METHOD:PUBLISH
BEGIN:VEVENT
DTSTART:20231215T160000Z
DTEND:20231217T220000Z
LOCATION:Riverside, CA 92504
TRANSP: OPAQUE
SEQUENCE:0
UID:
DTSTAMP:20260419T234726Z
SUMMARY:Great Christmas Shopping Sale with Many New Items in Original packaging!
DESCRIPTION:Great Christmas Shopping Sale with Many New Items in Original packaging! Estate Sales by Dee 
UID:1776664046
STREET-ADDRESS:See website
POSTAL-CODE:92504
LOCALITY:Riverside
REGION:ABBREV=CA
COUNTRY:ABBREV=US;ABBREV=USA:United States
URL;TYPE=Event Listing:https://estatesales.org/estate-sales/ca/riverside/92504/great-christmas-shopping-sale-with-2265799
PRIORITY:1
CLASS:PUBLIC
SEQUENCE:0
STATUS:CONFIRMED
TRANSP:OPAQUE
END:VEVENT
END:VCALENDAR
