BEGIN:VCALENDAR
VERSION:2.0
METHOD:PUBLISH
BEGIN:VEVENT
DTSTART:20221215T170000Z
DTEND:20221217T230000Z
LOCATION:Parker, CO 80134
TRANSP: OPAQUE
SEQUENCE:0
UID:
DTSTAMP:20260419T143609Z
SUMMARY:Super Stonegate sale
DESCRIPTION:Super Stonegate sale A Prestige Estate Services Company 
UID:1776630969
STREET-ADDRESS:See website
POSTAL-CODE:80134
LOCALITY:Parker
REGION:ABBREV=CO
COUNTRY:ABBREV=US;ABBREV=USA:United States
URL;TYPE=Event Listing:https://estatesales.org/estate-sales/co/parker/80134/super-stonegate-sale-2128677
PRIORITY:1
CLASS:PUBLIC
SEQUENCE:0
STATUS:CONFIRMED
TRANSP:OPAQUE
END:VEVENT
END:VCALENDAR
