BEGIN:VCALENDAR
VERSION:2.0
METHOD:PUBLISH
BEGIN:VEVENT
DTSTART:20221215T140000Z
DTEND:20221217T180000Z
LOCATION:Clearwater, FL 33764
TRANSP: OPAQUE
SEQUENCE:0
UID:
DTSTAMP:20260423T094743Z
SUMMARY:Baby Boomers Antique Sale Part 2
DESCRIPTION:Baby Boomers Antique Sale Part 2 Baby Boomers Estate Sales 
UID:1776959263
STREET-ADDRESS:See website
POSTAL-CODE:33764
LOCALITY:Clearwater
REGION:ABBREV=FL
COUNTRY:ABBREV=US;ABBREV=USA:United States
URL;TYPE=Event Listing:https://estatesales.org/estate-sales/fl/clearwater/33764/baby-boomers-antique-sale-part-2130621
PRIORITY:1
CLASS:PUBLIC
SEQUENCE:0
STATUS:CONFIRMED
TRANSP:OPAQUE
END:VEVENT
END:VCALENDAR
