BEGIN:VCALENDAR
VERSION:2.0
METHOD:PUBLISH
BEGIN:VEVENT
DTSTART:20221215T140000Z
DTEND:20221215T210000Z
LOCATION:Howell, MI 48855
TRANSP: OPAQUE
SEQUENCE:0
UID:
DTSTAMP:20260423T233450Z
SUMMARY:ECCENTRIC SALE FROM A COLLECTABLES / ANTIQUE SHOP!
DESCRIPTION:ECCENTRIC SALE FROM A COLLECTABLES / ANTIQUE SHOP! Caring Transitions of S.E. Michigan 
UID:1777008890
STREET-ADDRESS:See website
POSTAL-CODE:48855
LOCALITY:Howell
REGION:ABBREV=MI
COUNTRY:ABBREV=US;ABBREV=USA:United States
URL;TYPE=Event Listing:https://estatesales.org/estate-sales/mi/howell/48855/eccentric-sale-from-a-collectables-2130459
PRIORITY:1
CLASS:PUBLIC
SEQUENCE:0
STATUS:CONFIRMED
TRANSP:OPAQUE
END:VEVENT
END:VCALENDAR
