BEGIN:VCALENDAR
VERSION:2.0
METHOD:PUBLISH
BEGIN:VEVENT
DTSTART:20181215T163000Z
DTEND:20181216T213000Z
LOCATION:Aurora, CO 80012
TRANSP: OPAQUE
SEQUENCE:0
UID:
DTSTAMP:20260420T204640Z
SUMMARY:Paolo’s Estate Sale
DESCRIPTION:Paolo’s Estate Sale Adan’s Hidden Treasures Estate Sale Company 
UID:1776739600
STREET-ADDRESS:See website
POSTAL-CODE:80012
LOCALITY:Aurora
REGION:ABBREV=CO
COUNTRY:ABBREV=US;ABBREV=USA:United States
URL;TYPE=Event Listing:https://estatesales.org/estate-sales/co/aurora/80012/paolos-estate-sale-1605683
PRIORITY:1
CLASS:PUBLIC
SEQUENCE:0
STATUS:CONFIRMED
TRANSP:OPAQUE
END:VEVENT
END:VCALENDAR
