BEGIN:VCALENDAR
VERSION:2.0
METHOD:PUBLISH
BEGIN:VEVENT
DTSTART:20181215T170000Z
DTEND:20181215T200000Z
LOCATION:Clovis, CA 93612
TRANSP: OPAQUE
SEQUENCE:0
UID:
DTSTAMP:20260422T084545Z
SUMMARY:Holiday Warehouse Sale #2
DESCRIPTION:Holiday Warehouse Sale #2 Steward Estate Sales 
UID:1776869145
STREET-ADDRESS:See website
POSTAL-CODE:93612
LOCALITY:Clovis
REGION:ABBREV=CA
COUNTRY:ABBREV=US;ABBREV=USA:United States
URL;TYPE=Event Listing:https://estatesales.org/estate-sales/ca/clovis/93612/holiday-warehouse-sale-2-1604713
PRIORITY:1
CLASS:PUBLIC
SEQUENCE:0
STATUS:CONFIRMED
TRANSP:OPAQUE
END:VEVENT
END:VCALENDAR
