BEGIN:VCALENDAR
VERSION:2.0
METHOD:PUBLISH
BEGIN:VEVENT
DTSTART:20141215T110000Z
DTEND:20141220T020000Z
LOCATION:By appointment only.
TRANSP: OPAQUE
SEQUENCE:0
UID:
DTSTAMP:20260421T055333Z
SUMMARY:This is a CTOnline Auction! There are many Hummel Figurines and Plates along with a variety of Whisky Decanters.
DESCRIPTION:This is a CTOnline Auction! There are many Hummel Figurines and Plates along with a variety of Whisky Decanters. Caring Transitions of Oakland County MI 
UID:1776772413
STREET-ADDRESS:See website
POSTAL-CODE:48383
LOCALITY:Commerce Township
REGION:ABBREV=MI
COUNTRY:ABBREV=US;ABBREV=USA:United States
URL;TYPE=Event Listing:https://estatesales.org/estate-sales/mi/commerce-township/48383/this-is-a-ctonline-auction-486395
PRIORITY:1
CLASS:PUBLIC
SEQUENCE:0
STATUS:CONFIRMED
TRANSP:OPAQUE
END:VEVENT
END:VCALENDAR
