BEGIN:VCALENDAR
VERSION:2.0
METHOD:PUBLISH
BEGIN:VEVENT
DTSTART:20241214T140000Z
DTEND:20241214T200000Z
LOCATION:Newton, MA 02458
TRANSP: OPAQUE
SEQUENCE:0
UID:
DTSTAMP:20260419T092118Z
SUMMARY:Exciting Newton One Day Estate Sale "Unique-Artsy-Creative Fun Stuff" Saturday, December 14th (9-3)
DESCRIPTION:Exciting Newton One Day Estate Sale "Unique-Artsy-Creative Fun Stuff" Saturday, December 14th (9-3) Estate Sale Specialists, LLC 
UID:1776612078
STREET-ADDRESS:See website
POSTAL-CODE:02458
LOCALITY:Newton
REGION:ABBREV=MA
COUNTRY:ABBREV=US;ABBREV=USA:United States
URL;TYPE=Event Listing:https://estatesales.org/estate-sales/ma/newton/02458/exciting-newton-one-day-estate-2354239
PRIORITY:1
CLASS:PUBLIC
SEQUENCE:0
STATUS:CONFIRMED
TRANSP:OPAQUE
END:VEVENT
END:VCALENDAR
