BEGIN:VCALENDAR
VERSION:2.0
METHOD:PUBLISH
BEGIN:VEVENT
DTSTART:20231214T170000Z
DTEND:20231216T200000Z
LOCATION:Westminster, CO 80031
TRANSP: OPAQUE
SEQUENCE:0
UID:
DTSTAMP:20260420T005404Z
SUMMARY:LAST CHANCE @ WESTMINSTER ESTATE SALE
DESCRIPTION:LAST CHANCE @ WESTMINSTER ESTATE SALE American Estate Sales 
UID:1776668044
STREET-ADDRESS:See website
POSTAL-CODE:80031
LOCALITY:Westminster
REGION:ABBREV=CO
COUNTRY:ABBREV=US;ABBREV=USA:United States
URL;TYPE=Event Listing:https://estatesales.org/estate-sales/co/westminster/80031/last-chance-westminster-estate-sale-2264243
PRIORITY:1
CLASS:PUBLIC
SEQUENCE:0
STATUS:CONFIRMED
TRANSP:OPAQUE
END:VEVENT
END:VCALENDAR
