BEGIN:VCALENDAR
VERSION:2.0
METHOD:PUBLISH
BEGIN:VEVENT
DTSTART:20181214T160000Z
DTEND:20181214T230000Z
LOCATION:Schererville, IN 46375
TRANSP: OPAQUE
SEQUENCE:0
UID:
DTSTAMP:20260419T082709Z
SUMMARY:Sharon Porter Estate-Asian & Wolf Decor, ONE Day BLOW Out
DESCRIPTION:Sharon Porter Estate-Asian & Wolf Decor, ONE Day BLOW Out Auction & Estates by Diana Cook 
UID:1776608829
STREET-ADDRESS:See website
POSTAL-CODE:46375
LOCALITY:Schererville
REGION:ABBREV=IN
COUNTRY:ABBREV=US;ABBREV=USA:United States
URL;TYPE=Event Listing:https://estatesales.org/estate-sales/in/schererville/46375/sharon-porter-estateasian-wolf-decor-1603455
PRIORITY:1
CLASS:PUBLIC
SEQUENCE:0
STATUS:CONFIRMED
TRANSP:OPAQUE
END:VEVENT
END:VCALENDAR
