BEGIN:VCALENDAR
VERSION:2.0
METHOD:PUBLISH
BEGIN:VEVENT
DTSTART:20171214T140000Z
DTEND:20171216T200000Z
LOCATION:Tampa, FL 33629
TRANSP: OPAQUE
SEQUENCE:0
UID:
DTSTAMP:20260425T162227Z
SUMMARY:WELCOME TO THE TAMPA MULTI MILLION DOLLAR HOME PHASE 1 SALE
DESCRIPTION:WELCOME TO THE TAMPA MULTI MILLION DOLLAR HOME PHASE 1 SALE A PRESTIGE ESTATE SERVICES National Company 
UID:1777155747
STREET-ADDRESS:See website
POSTAL-CODE:33629
LOCALITY:Tampa
REGION:ABBREV=FL
COUNTRY:ABBREV=US;ABBREV=USA:United States
URL;TYPE=Event Listing:https://estatesales.org/estate-sales/fl/tampa/33629/welcome-to-the-tampa-multi-1449483
PRIORITY:1
CLASS:PUBLIC
SEQUENCE:0
STATUS:CONFIRMED
TRANSP:OPAQUE
END:VEVENT
END:VCALENDAR
