BEGIN:VCALENDAR
VERSION:2.0
METHOD:PUBLISH
BEGIN:VEVENT
DTSTART:20131214T180000Z
DTEND:20131215T220000Z
LOCATION:San Mateo, CA 94404
TRANSP: OPAQUE
SEQUENCE:0
UID:
DTSTAMP:20260424T121918Z
SUMMARY:EXQUISITE ANTIQUES ESTATE SALE
DESCRIPTION:EXQUISITE ANTIQUES ESTATE SALE S&S ESTATE SALES 
UID:1777054758
STREET-ADDRESS:See website
POSTAL-CODE:94404
LOCALITY:San Mateo
REGION:ABBREV=CA
COUNTRY:ABBREV=US;ABBREV=USA:United States
URL;TYPE=Event Listing:https://estatesales.org/estate-sales/ca/san-mateo/94404/exquisite-antiques-estate-sale-346057
PRIORITY:1
CLASS:PUBLIC
SEQUENCE:0
STATUS:CONFIRMED
TRANSP:OPAQUE
END:VEVENT
END:VCALENDAR
