BEGIN:VCALENDAR
VERSION:2.0
METHOD:PUBLISH
BEGIN:VEVENT
DTSTART:20251213T150000Z
DTEND:20251213T200000Z
LOCATION:Shamong, NJ 08088
TRANSP: OPAQUE
SEQUENCE:0
UID:
DTSTAMP:20260425T162651Z
SUMMARY:One Day Estate Sale In Shamong, NJ
DESCRIPTION:One Day Estate Sale In Shamong, NJ B&B Estate Sales 
UID:1777156011
STREET-ADDRESS:See website
POSTAL-CODE:08088
LOCALITY:Shamong
REGION:ABBREV=NJ
COUNTRY:ABBREV=US;ABBREV=USA:United States
URL;TYPE=Event Listing:https://estatesales.org/estate-sales/nj/shamong/08088/one-day-estate-sale-in-2414166
PRIORITY:1
CLASS:PUBLIC
SEQUENCE:0
STATUS:CONFIRMED
TRANSP:OPAQUE
END:VEVENT
END:VCALENDAR
