BEGIN:VCALENDAR
VERSION:2.0
METHOD:PUBLISH
BEGIN:VEVENT
DTSTART:20251213T160000Z
DTEND:20251214T210000Z
LOCATION:Tempe, AZ 85282
TRANSP: OPAQUE
SEQUENCE:0
UID:
DTSTAMP:20260425T094600Z
SUMMARY:Huge Tempe jewelry sale with 14k and Native American jewelry, international items, linens, Tiffany and 14k watch,
DESCRIPTION:Huge Tempe jewelry sale with 14k and Native American jewelry, international items, linens, Tiffany and 14k watch, Fresh Start Estate Sales LLC 
UID:1777131960
STREET-ADDRESS:See website
POSTAL-CODE:85282
LOCALITY:Tempe
REGION:ABBREV=AZ
COUNTRY:ABBREV=US;ABBREV=USA:United States
URL;TYPE=Event Listing:https://estatesales.org/estate-sales/az/tempe/85282/huge-tempe-jewelry-sale-with-2417630
PRIORITY:1
CLASS:PUBLIC
SEQUENCE:0
STATUS:CONFIRMED
TRANSP:OPAQUE
END:VEVENT
END:VCALENDAR
