BEGIN:VCALENDAR
VERSION:2.0
METHOD:PUBLISH
BEGIN:VEVENT
DTSTART:20251213T170000Z
DTEND:20251214T220000Z
LOCATION:Studio City, CA 91604
TRANSP: OPAQUE
SEQUENCE:0
UID:
DTSTAMP:20260420T020309Z
SUMMARY:Pristine Artist’s Estate, A Must See Designer Clothing, Art, Collectibles, Jewelry, Furniture n More
DESCRIPTION:Pristine Artist’s Estate, A Must See Designer Clothing, Art, Collectibles, Jewelry, Furniture n More Triumphant Estate Sales of Los Angeles 
UID:1776672189
STREET-ADDRESS:See website
POSTAL-CODE:91604
LOCALITY:Studio City
REGION:ABBREV=CA
COUNTRY:ABBREV=US;ABBREV=USA:United States
URL;TYPE=Event Listing:https://estatesales.org/estate-sales/ca/studio-city/91604/pristine-artists-estate-a-must-2416627
PRIORITY:1
CLASS:PUBLIC
SEQUENCE:0
STATUS:CONFIRMED
TRANSP:OPAQUE
END:VEVENT
END:VCALENDAR
