BEGIN:VCALENDAR
VERSION:2.0
METHOD:PUBLISH
BEGIN:VEVENT
DTSTART:20251213T130000Z
DTEND:20251213T200000Z
LOCATION:Wolcott, CT 06716
TRANSP: OPAQUE
SEQUENCE:0
UID:
DTSTAMP:20260425T152517Z
SUMMARY:Wolcott Estate Sale
DESCRIPTION:Wolcott Estate Sale Sean Mahoney Estate Sales LLC 
UID:1777152317
STREET-ADDRESS:See website
POSTAL-CODE:06716
LOCALITY:Wolcott
REGION:ABBREV=CT
COUNTRY:ABBREV=US;ABBREV=USA:United States
URL;TYPE=Event Listing:https://estatesales.org/estate-sales/ct/wolcott/06716/wolcott-estate-sale-2417247
PRIORITY:1
CLASS:PUBLIC
SEQUENCE:0
STATUS:CONFIRMED
TRANSP:OPAQUE
END:VEVENT
END:VCALENDAR
